BEGIN:VCALENDAR
VERSION:2.0
PRODID:-//Little Dreamers Australia - ECPv5.3.2.1//NONSGML v1.0//EN
CALSCALE:GREGORIAN
METHOD:PUBLISH
X-WR-CALNAME:Little Dreamers Australia
X-ORIGINAL-URL:https://www.littledreamers.org.au
X-WR-CALDESC:Events for Little Dreamers Australia
BEGIN:VTIMEZONE
TZID:Australia/Sydney
BEGIN:STANDARD
TZOFFSETFROM:+1100
TZOFFSETTO:+1000
TZNAME:AEST
DTSTART:20210403T160000
END:STANDARD
BEGIN:DAYLIGHT
TZOFFSETFROM:+1000
TZOFFSETTO:+1100
TZNAME:AEDT
DTSTART:20211002T160000
END:DAYLIGHT
END:VTIMEZONE
BEGIN:VEVENT
DTSTART;TZID=Australia/Sydney:20210311T073000
DTEND;TZID=Australia/Sydney:20210311T093000
DTSTAMP:20210227T054836
CREATED:20210129T014005Z
LAST-MODIFIED:20210223T233436Z
UID:11984-1615447800-1615455000@www.littledreamers.org.au
SUMMARY:Breakfast With Champions: Women of Tomorrow
DESCRIPTION:We’re celebrating strong women for International Women’s Day 2021! \nLast year\, we explored the theme Fearless Females. This year\, we’re looking at Women of Tomorrow – the women who are setting trends and paving the way for equality\, diversity\, and for our future generations. Over breakfast\, we’ll discuss a range of topics with a panel of female speakers\, which all ties into this year’s International Women’s Day theme: “Women in Leadership: Achieving an equal future in a COVID-19 world” . \nAll gender identities are welcome to attend. \nIntroducing our panel: \n\nJess Dadon\, Co-Founder at How Two Live & TWOOBS\nJessica Nguyen\, Home Cook & Recipe Creator\nMaha Sukkar\, Acting Senior Sergeant & Multicultural Liaison Officer at Victoria Police\nMelissa Yu\, Director of MCO Events\n\nWhen: Thursday 11 March\, 7.30am – 9.30am\nWhere: United Co.\, 425 Smith Street\, Fitzroy VIC 3065 \nIf you can’t make the event in person – don’t worry! We have a live stream option which you can also purchase tickets for below. \nAll of our in-person guests will receive a gift bag valued at over $100\, including products from: \n\nBeeswax Wraps Australia\nOneWorld Collection\nPukka Herbs\nNatio\nThe Other Straw\nBusiness Chicks\nCitizen Wolf\nLush\nBarker’s New Zealand\nAvene\n\nPlus plenty of raffle prizes to be won!
URL:https://www.littledreamers.org.au/event/breakfast-with-champions-women-of-tomorrow/
LOCATION:United Co.\, 425 Smith St\, Fitzroy\, VIC\, 3065\, Australia
ATTACH;FMTTYPE=image/png:https://www.littledreamers.org.au/wp-content/uploads/2021/01/BWC-SM-Women-of-Tomorrow.png
ORGANIZER;CN="Little%20Dreamers":MAILTO:info@littledreamers.org.au
END:VEVENT
BEGIN:VEVENT
DTSTART;TZID=Australia/Sydney:20210328T110000
DTEND;TZID=Australia/Sydney:20210328T140000
DTSTAMP:20210227T054836
CREATED:20210120T040958Z
LAST-MODIFIED:20210222T055928Z
UID:11915-1616929200-1616940000@www.littledreamers.org.au
SUMMARY:Valentine's Day Family Picnic
DESCRIPTION:Join us to celebrate (a slightly delayed) Valentine’s Day at our family picnic! \nGet your face painted\, play outdoor games\, enjoy lunch (provided) and get crafty with our arts and crafts! \nWhen: Sunday 28 March\, 11am-2pm\nWhere: Alma Park West\, St Kilda East \nTickets cost $5 per person. Young Carers\, family\, and friends are all welcome. Register below!
URL:https://www.littledreamers.org.au/event/valentines-day-family-picnic/
LOCATION:Alma Park West\, St Kilda East\, VIC\, 3183\, Australia
ATTACH;FMTTYPE=image/png:https://www.littledreamers.org.au/wp-content/uploads/2021/01/New-Date.png
ORGANIZER;CN="Little%20Dreamers":MAILTO:info@littledreamers.org.au
END:VEVENT
BEGIN:VEVENT
DTSTART;TZID=Australia/Sydney:20210409T183000
DTEND;TZID=Australia/Sydney:20210409T203000
DTSTAMP:20210227T054836
CREATED:20210223T233419Z
LAST-MODIFIED:20210225T215611Z
UID:12413-1617993000-1618000200@www.littledreamers.org.au
SUMMARY:Evening With Champions: Diversity and Inclusion (NSW)
DESCRIPTION:We’re celebrating all the wonderful things that make us unique! \nOver post-work drinks and canapés\, we’ll unpack the theme ‘Diversity and Inclusion’\, and the steps we can all take to facilitate a more inclusive society. Joining us will be a panel of leaders\, entrepreneurs\, activists and change makers\, who will speak to their experiences of diversity\, change\, identity and belonging. \nThe event will also be streamed from our venue in Sydney to viewers right around Australia. You’ll find both in-person and live stream ticket options below! \nIntroducing our panel: \n\nKarn Ghosh\, Co-Founder & CEO at Kinela\nMarlee Silva\, Author & Podcaster\nNathan Parker\, Motivational Speaker\, Pilot & and 2021 NSW Young Australian of the Year\nEmily Scott\, Board Director of Out for Australia & International Gay and Lesbian Aquatics Association\nShukufa Tahiri\, Policy Officer\, Refugee Council of Australia\n\nWhen: Friday 9 April\, 6.30pm – 8.30pm\nWhere: Hireup\, Ground Floor\, 120 Pacific Highway\, Greenwich NSW 2065 \nAll of our in-person guests will receive a gift bag valued at over $100\, including products from: \n\nBeeswax Wraps Australia\nOneWorld Collection\nPukka Herbs\nNatio\nThe Other Straw\nBusiness Chicks\nCitizen Wolf\nLush\nBarker’s New Zealand\nAvene\n\nPlus plenty of raffle prizes to be won!
URL:https://www.littledreamers.org.au/event/evening-with-champions-diversity-and-inclusion-nsw/
LOCATION:Hireup\, Ground Floor\, 120 Pacific Highway\, Greenwich\, NSW\, 2065\, Australia
ATTACH;FMTTYPE=image/png:https://www.littledreamers.org.au/wp-content/uploads/2021/02/Screen-Shot-2021-02-23-at-2.09.50-PM.png
ORGANIZER;CN="Little%20Dreamers":MAILTO:info@littledreamers.org.au
END:VEVENT
BEGIN:VEVENT
DTSTART;TZID=Australia/Sydney:20210423T180000
DTEND;TZID=Australia/Sydney:20210423T210000
DTSTAMP:20210227T054836
CREATED:20210215T234541Z
LAST-MODIFIED:20210223T233534Z
UID:12271-1619200800-1619211600@www.littledreamers.org.au
SUMMARY:Young Carers Festival (NSW)
DESCRIPTION:Our Sydney Young Carers Festival is here! Join us in NSW Youth Week for a magical evening with the stars. \nStrike a pose on the red carpet as you enter Madame Tussauds\, and don’t miss your chance to snap some unforgettable photos with some of the world’s biggest celebrities! \nWhat is the Young Carers Festival?\nThe Young Carers Festival is an annual event held by Little Dreamers\, specifically for Young Carers and their families. Taking place in NSW Youth Week (16-24 April)\, the event will celebrate Young Carers and provide a fun\, family friendly environment for all to enjoy! \nEntertainment\, prizes\, dinner and refreshments will be provided. \nThe Details\nWhen: Friday 23 April\, 6pm-9pm\nWhere: Madame Tussauds\, 1-5 Wheat Rd\, Sydney NSW 2000\nWho: Young Carers\, family and friends\nCost: $10 per person. Young Carers attend for free. \nBook a Stall\nHost a stall at the Young Carers Festival and reach hundreds of Young Carers and their families. For more information\, contact Emma at emma@littledreamers.org.au\, or register for a stall here.
URL:https://www.littledreamers.org.au/event/young-carers-festival-sydney/
LOCATION:Madame Tussauds\, 1-5 Wheat Rd\, Sydney\, NSW\, 2000\, Australia
ATTACH;FMTTYPE=image/png:https://www.littledreamers.org.au/wp-content/uploads/2021/02/YC-Festival-Flyer-SYD-1.png
ORGANIZER;CN="Little%20Dreamers":MAILTO:info@littledreamers.org.au
END:VEVENT
END:VCALENDAR